BEGIN:VCALENDAR
VERSION:2.0
PRODID:-//Library Market//iCal Export//EN
BEGIN:VEVENT
SUMMARY:Porch Party with the Indianapolis Motor Speedway!
UID:871
DTSTAMP:20260422T212300Z
DTSTART:20260515T213000Z
DTEND:20260515T233000Z
LOCATION:498 N Avon Ave, Avon, IN 46123, United States
ROOM: Main Concourse
DESCRIPTION:Get ready for race season! Join us for our second Porch Party 
 in partnership with the Indianapolis Motor Speedway; check out fun activit
 ies, play games, and pick up your own porching starter kit (while supplies
  last)!No registration is required; porching kits are available first come
 , first served.
URL:https://avonlib.librarycalendar.com/event/porch-party-871
END:VEVENT
END:VCALENDAR
