BEGIN:VCALENDAR
VERSION:2.0
PRODID:-//Library Market//iCal Export//EN
BEGIN:VEVENT
SUMMARY:Medicare 101
UID:2336
DTSTAMP:20260423T103900Z
DTSTART:20260617T213000Z
DTEND:20260617T233000Z
LOCATION:498 N Avon Ave, Avon, IN 46123, United States
ROOM: Jessie Thomas Meeting Room A
DESCRIPTION:Medicare 101 offers easy to understand, comprehensive, informa
 tional tools to help guide seniors turning 65 through the seemingly comple
 x world of Medicare planning.  Our workshops cover topics like how each p
 art of Medicare A through D work and information you need to make personal
  decisions.  Registration is coming soon.  Walk-ins are also welcome. 
URL:https://avonlib.librarycalendar.com/event/medicare-101-2336
END:VEVENT
END:VCALENDAR
